BEGIN:VCALENDAR
VERSION:2.0
PRODID:-//washoecasafoundation.com//NONSGML kigkonsult.se iCalcreator 2.30.
 10//
CALSCALE:GREGORIAN
METHOD:PUBLISH
UID:89f233e4-6f86-40da-afef-5d8f43894b11
X-WR-CALDESC:CASA Board of Trustees Meeting\nEvery Third Tuesday of the Mon
 th\n5:30-6:45pm\n\n
X-WR-RELCALID:fea38c30f019ff36f7a0b51c1fbd50b0
X-WR-TIMEZONE:America/Los_Angeles
BEGIN:VTIMEZONE
TZID:America/Los_Angeles
BEGIN:STANDARD
TZNAME:PST
DTSTART:20251102T020000
TZOFFSETFROM:-0700
TZOFFSETTO:-0800
RDATE:20261101T020000
END:STANDARD
BEGIN:DAYLIGHT
TZNAME:PDT
DTSTART:20260308T020000
TZOFFSETFROM:-0800
TZOFFSETTO:-0700
RDATE:20270314T020000
END:DAYLIGHT
END:VTIMEZONE
BEGIN:VEVENT
UID:d51c47a5-c774-4cca-a86c-2183d577a599
DTSTAMP:20260419T185403Z
DESCRIPTION:CASA Board of Trustees Meeting\nEvery Third Tuesday of the Mont
 h\n5:30-6:45pm\n\n
DTSTART;TZID=America/Los_Angeles:20260421T173000
DTEND;TZID=America/Los_Angeles:20260421T194500
LOCATION:
SUMMARY:Board of Trustees Meeting
END:VEVENT
END:VCALENDAR
