BEGIN:VCALENDAR
VERSION:2.0
PRODID:-//washoecasafoundation.com//NONSGML kigkonsult.se iCalcreator 2.30.
 10//
CALSCALE:GREGORIAN
METHOD:PUBLISH
UID:d453472f-6965-4872-94a2-e8ed8779b195
X-WR-CALDESC:
X-WR-RELCALID:0d81892c2f875ef881e0ab6a47438cf5
X-WR-TIMEZONE:America/Los_Angeles
BEGIN:VTIMEZONE
TZID:America/Los_Angeles
BEGIN:STANDARD
TZNAME:PST
DTSTART:20251102T020000
TZOFFSETFROM:-0700
TZOFFSETTO:-0800
RDATE:20261101T020000
END:STANDARD
BEGIN:DAYLIGHT
TZNAME:PDT
DTSTART:20260308T020000
TZOFFSETFROM:-0800
TZOFFSETTO:-0700
RDATE:20270314T020000
END:DAYLIGHT
END:VTIMEZONE
BEGIN:VEVENT
UID:8c2c0d90-9c23-44d6-a7a7-c185b1c47dd0
DTSTAMP:20260419T185013Z
DESCRIPTION:
DTSTART;TZID=America/Los_Angeles:20260414T173000
DTEND;TZID=America/Los_Angeles:20260414T190000
LOCATION:
SUMMARY:CASA Support Group
END:VEVENT
END:VCALENDAR
