BEGIN:VCALENDAR
VERSION:2.0
PRODID:-//washoecasafoundation.com//NONSGML kigkonsult.se iCalcreator 2.30.
 10//
CALSCALE:GREGORIAN
METHOD:PUBLISH
UID:9e0dcae6-a27d-41fc-913b-a67d186815e0
X-WR-CALDESC:
X-WR-RELCALID:6765a4cd25e835cdcb27bb3206874ebb
X-WR-TIMEZONE:America/Los_Angeles
BEGIN:VTIMEZONE
TZID:America/Los_Angeles
BEGIN:STANDARD
TZNAME:PST
DTSTART:20251102T020000
TZOFFSETFROM:-0700
TZOFFSETTO:-0800
RDATE:20261101T020000
RDATE:20271107T020000
END:STANDARD
BEGIN:DAYLIGHT
TZNAME:PDT
DTSTART:20260308T020000
TZOFFSETFROM:-0800
TZOFFSETTO:-0700
RDATE:20270314T020000
RDATE:20280312T020000
END:DAYLIGHT
END:VTIMEZONE
BEGIN:VEVENT
UID:91fbfcdb-02db-4e8e-b760-daf68656d450
DTSTAMP:20260421T045748Z
DESCRIPTION:
DTSTART;TZID=America/Los_Angeles:20261013T173000
DTEND;TZID=America/Los_Angeles:20261013T190000
LOCATION:
SUMMARY:CASA Support Group
END:VEVENT
END:VCALENDAR
