BEGIN:VCALENDAR
VERSION:2.0
PRODID:-//washoecasafoundation.com//NONSGML kigkonsult.se iCalcreator 2.30.
 10//
CALSCALE:GREGORIAN
METHOD:PUBLISH
UID:ba33875f-c344-40ac-af99-c46569a3dfb5
X-WR-CALDESC:
X-WR-RELCALID:d49f13d086ee08931a19a4d267548657
X-WR-TIMEZONE:America/Los_Angeles
BEGIN:VTIMEZONE
TZID:America/Los_Angeles
BEGIN:STANDARD
TZNAME:PST
DTSTART:20251102T020000
TZOFFSETFROM:-0700
TZOFFSETTO:-0800
RDATE:20261101T020000
RDATE:20271107T020000
END:STANDARD
BEGIN:DAYLIGHT
TZNAME:PDT
DTSTART:20260308T020000
TZOFFSETFROM:-0800
TZOFFSETTO:-0700
RDATE:20270314T020000
RDATE:20280312T020000
END:DAYLIGHT
END:VTIMEZONE
BEGIN:VEVENT
UID:7893714a-df4f-4777-8f2b-dea994f1704d
DTSTAMP:20260421T045640Z
DESCRIPTION:
DTSTART;TZID=America/Los_Angeles:20261007T120000
DTEND;TZID=America/Los_Angeles:20261007T130000
LOCATION:https://us02web.zoom.us/meeting/register/CgLKYlo3QfyI59dGm1s_qw
SUMMARY:Coffee with CASA - Afternoon Session
END:VEVENT
END:VCALENDAR
