BEGIN:VCALENDAR
VERSION:2.0
PRODID:-//washoecasafoundation.com//NONSGML kigkonsult.se iCalcreator 2.30.
 10//
CALSCALE:GREGORIAN
METHOD:PUBLISH
UID:01c97666-5a0a-47eb-b190-dadbc0daa8ef
X-WR-CALDESC:
X-WR-RELCALID:9665fb6b5117ee8bb898037d7006a0fc
X-WR-TIMEZONE:America/Los_Angeles
BEGIN:VTIMEZONE
TZID:America/Los_Angeles
BEGIN:STANDARD
TZNAME:PST
DTSTART:20251102T020000
TZOFFSETFROM:-0700
TZOFFSETTO:-0800
RDATE:20261101T020000
RDATE:20271107T020000
END:STANDARD
BEGIN:DAYLIGHT
TZNAME:PDT
DTSTART:20260308T020000
TZOFFSETFROM:-0800
TZOFFSETTO:-0700
RDATE:20270314T020000
RDATE:20280312T020000
END:DAYLIGHT
END:VTIMEZONE
BEGIN:VEVENT
UID:2b478bb6-767a-46e7-b4f5-bac8f82ba61f
DTSTAMP:20260421T033611Z
DESCRIPTION:
DTSTART;TZID=America/Los_Angeles:20260916T180000
DTEND;TZID=America/Los_Angeles:20260916T190000
LOCATION:https://us02web.zoom.us/meeting/register/m1vqvE__S9O1nPl0ltywZA
SUMMARY:Coffee with CASA - Evening Session
END:VEVENT
END:VCALENDAR
