BEGIN:VCALENDAR
VERSION:2.0
PRODID:-//washoecasafoundation.com//NONSGML kigkonsult.se iCalcreator 2.30.
 10//
CALSCALE:GREGORIAN
METHOD:PUBLISH
UID:6ef1cc6b-b569-40bd-8eea-6f634eb9d802
X-WR-CALDESC:
X-WR-RELCALID:23ee7537b1c295342ebb1c9f98bf9b18
X-WR-TIMEZONE:America/Los_Angeles
BEGIN:VTIMEZONE
TZID:America/Los_Angeles
BEGIN:STANDARD
TZNAME:PST
DTSTART:20251102T020000
TZOFFSETFROM:-0700
TZOFFSETTO:-0800
RDATE:20261101T020000
RDATE:20271107T020000
END:STANDARD
BEGIN:DAYLIGHT
TZNAME:PDT
DTSTART:20260308T020000
TZOFFSETFROM:-0800
TZOFFSETTO:-0700
RDATE:20270314T020000
END:DAYLIGHT
END:VTIMEZONE
BEGIN:VEVENT
UID:3669bbaf-0de8-4a5c-abea-94d24b5703cf
DTSTAMP:20260421T033412Z
DESCRIPTION:
DTSTART;TZID=America/Los_Angeles:20260902T120000
DTEND;TZID=America/Los_Angeles:20260902T130000
LOCATION:https://us02web.zoom.us/meeting/register/CgLKYlo3QfyI59dGm1s_qw
SUMMARY:Coffee with CASA - Afternoon Session
END:VEVENT
END:VCALENDAR
