BEGIN:VCALENDAR
VERSION:2.0
PRODID:-//washoecasafoundation.com//NONSGML kigkonsult.se iCalcreator 2.30.
 10//
CALSCALE:GREGORIAN
METHOD:PUBLISH
UID:7097709a-6f1e-4bde-96d4-0116cc9d4ce6
X-WR-CALDESC:
X-WR-RELCALID:6835f28c44e35d8293f891bcecbcabfc
X-WR-TIMEZONE:America/Los_Angeles
BEGIN:VTIMEZONE
TZID:America/Los_Angeles
BEGIN:STANDARD
TZNAME:PST
DTSTART:20251102T020000
TZOFFSETFROM:-0700
TZOFFSETTO:-0800
RDATE:20261101T020000
RDATE:20271107T020000
END:STANDARD
BEGIN:DAYLIGHT
TZNAME:PDT
DTSTART:20260308T020000
TZOFFSETFROM:-0800
TZOFFSETTO:-0700
RDATE:20270314T020000
END:DAYLIGHT
END:VTIMEZONE
BEGIN:VEVENT
UID:d63d1d49-85d4-4e7e-8402-590b249240d9
DTSTAMP:20260421T020947Z
DESCRIPTION:
DTSTART;TZID=America/Los_Angeles:20260819T180000
DTEND;TZID=America/Los_Angeles:20260819T190000
LOCATION:https://us02web.zoom.us/meeting/register/m1vqvE__S9O1nPl0ltywZA
SUMMARY:Coffee with CASA - Evening Session
END:VEVENT
END:VCALENDAR
