BEGIN:VCALENDAR
VERSION:2.0
PRODID:-//washoecasafoundation.com//NONSGML kigkonsult.se iCalcreator 2.30.
 10//
CALSCALE:GREGORIAN
METHOD:PUBLISH
UID:f5bbae0a-7143-4890-8986-c8fd52082776
X-WR-CALDESC:
X-WR-RELCALID:f0a9f43b2e22f0d569d1949f3626333c
X-WR-TIMEZONE:America/Los_Angeles
BEGIN:VTIMEZONE
TZID:America/Los_Angeles
BEGIN:STANDARD
TZNAME:PST
DTSTART:20251102T020000
TZOFFSETFROM:-0700
TZOFFSETTO:-0800
RDATE:20261101T020000
RDATE:20271107T020000
END:STANDARD
BEGIN:DAYLIGHT
TZNAME:PDT
DTSTART:20260308T020000
TZOFFSETFROM:-0800
TZOFFSETTO:-0700
RDATE:20270314T020000
END:DAYLIGHT
END:VTIMEZONE
BEGIN:VEVENT
UID:694e942d-aae8-4a00-96b2-7a57487ab555
DTSTAMP:20260421T021417Z
DESCRIPTION:
DTSTART;TZID=America/Los_Angeles:20260811T173000
DTEND;TZID=America/Los_Angeles:20260811T190000
LOCATION:
SUMMARY:CASA Support Group
END:VEVENT
END:VCALENDAR
