BEGIN:VCALENDAR
VERSION:2.0
PRODID:-//washoecasafoundation.com//NONSGML kigkonsult.se iCalcreator 2.30.
 10//
CALSCALE:GREGORIAN
METHOD:PUBLISH
UID:c09f9f30-2af5-4eee-a045-52f4ca2fd90b
X-WR-CALDESC:REGISTRATION IS NOW OPEN!\n\nJoin us\, Friday\, July 24th\, 20
 26\, for the 2nd Annual Washoe CASA Foundation Golf Tournament benefitting
  foster children in Washoe County.\n\nEarly Bird Registration is now open!
  Sign up before April 30th and take advantage of our special offers!\n\nRe
 gister early and select either a 20% discount towards a team or individual
  player spot\, or a 10% discount and (2) FREE mulligan tickets per team (E
 ach valued at $100.00).\n\n20% Discount - Use Code: EARLYBIRD2026\n\n10% D
 iscount w/FREE Mulligans - Use code: MULLIGAN2026\n\nClick here for a flas
 hback to all the fun from last year's inaugural event: https://www.canva.c
 om/design/DAGuwUM4OQc/T9wqDbuIZxzZ1lvgHnJcJQ/watch?utm_content=DAGuwUM4OQc
 &utm_campaign=designshare&utm_medium=link2&utm_source=uniquelinks&utlId=h3
 0aaa87d7b \n\n\n\n\n
X-WR-RELCALID:3c435a45f616084ddb39b143c92e6887
X-WR-TIMEZONE:America/Los_Angeles
BEGIN:VTIMEZONE
TZID:America/Los_Angeles
BEGIN:STANDARD
TZNAME:PST
DTSTART:20251102T020000
TZOFFSETFROM:-0700
TZOFFSETTO:-0800
RDATE:20261101T020000
RDATE:20271107T020000
END:STANDARD
BEGIN:DAYLIGHT
TZNAME:PDT
DTSTART:20260308T020000
TZOFFSETFROM:-0800
TZOFFSETTO:-0700
RDATE:20270314T020000
END:DAYLIGHT
END:VTIMEZONE
BEGIN:VEVENT
UID:1bb40d21-9fc1-4c3d-80db-054f8d2020c8
DTSTAMP:20260420T155837Z
DESCRIPTION:REGISTRATION IS NOW OPEN!\n\nJoin us\, Friday\, July 24th\, 202
 6\, for the 2nd Annual Washoe CASA Foundation Golf Tournament benefitting 
 foster children in Washoe County.\n\nEarly Bird Registration is now open! 
 Sign up before April 30th and take advantage of our special offers!\n\nReg
 ister early and select either a 20% discount towards a team or individual 
 player spot\, or a 10% discount and (2) FREE mulligan tickets per team (Ea
 ch valued at $100.00).\n\n20% Discount - Use Code: EARLYBIRD2026\n\n10% Di
 scount w/FREE Mulligans - Use code: MULLIGAN2026\n\nClick here for a flash
 back to all the fun from last year's inaugural event: https://www.canva.co
 m/design/DAGuwUM4OQc/T9wqDbuIZxzZ1lvgHnJcJQ/watch?utm_content=DAGuwUM4OQc&
 utm_campaign=designshare&utm_medium=link2&utm_source=uniquelinks&utlId=h30
 aaa87d7b \n\n\n\n\n
DTSTART;TZID=America/Los_Angeles:20260724T030000
DTEND;TZID=America/Los_Angeles:20260724T030001
LOCATION:Red Hawk Golf Course & Resort\, 6600 N Wingfield Pkwy\, Sparks\, N
 V 89436 US
SUMMARY:Charity Golf Tournament
END:VEVENT
END:VCALENDAR
