BEGIN:VCALENDAR
VERSION:2.0
PRODID:-//washoecasafoundation.com//NONSGML kigkonsult.se iCalcreator 2.30.
 10//
CALSCALE:GREGORIAN
METHOD:PUBLISH
UID:6ca9d423-79ac-4c2d-b858-5b767a7705fe
X-WR-CALDESC:
X-WR-RELCALID:f8b0abfdbd23a412cfb0c3c0ab492c08
X-WR-TIMEZONE:America/Los_Angeles
BEGIN:VTIMEZONE
TZID:America/Los_Angeles
BEGIN:STANDARD
TZNAME:PST
DTSTART:20251102T020000
TZOFFSETFROM:-0700
TZOFFSETTO:-0800
RDATE:20261101T020000
RDATE:20271107T020000
END:STANDARD
BEGIN:DAYLIGHT
TZNAME:PDT
DTSTART:20260308T020000
TZOFFSETFROM:-0800
TZOFFSETTO:-0700
RDATE:20270314T020000
END:DAYLIGHT
END:VTIMEZONE
BEGIN:VEVENT
UID:081c8455-fd89-494b-8842-4385f9f2a40b
DTSTAMP:20260421T004751Z
DESCRIPTION:
DTSTART;TZID=America/Los_Angeles:20260715T180000
DTEND;TZID=America/Los_Angeles:20260715T190000
LOCATION:https://us02web.zoom.us/meeting/register/m1vqvE__S9O1nPl0ltywZA
SUMMARY:Coffee with CASA - Evening Session
END:VEVENT
END:VCALENDAR
