BEGIN:VCALENDAR
VERSION:2.0
PRODID:-//washoecasafoundation.com//NONSGML kigkonsult.se iCalcreator 2.30.
 10//
CALSCALE:GREGORIAN
METHOD:PUBLISH
UID:631e88ba-c3e3-4056-a3f6-156e7239ae32
X-WR-CALDESC:
X-WR-RELCALID:4e3c7099b64ac0590a1ebe1e28ebab94
X-WR-TIMEZONE:America/Los_Angeles
BEGIN:VTIMEZONE
TZID:America/Los_Angeles
BEGIN:STANDARD
TZNAME:PST
DTSTART:20251102T020000
TZOFFSETFROM:-0700
TZOFFSETTO:-0800
RDATE:20261101T020000
RDATE:20271107T020000
END:STANDARD
BEGIN:DAYLIGHT
TZNAME:PDT
DTSTART:20260308T020000
TZOFFSETFROM:-0800
TZOFFSETTO:-0700
RDATE:20270314T020000
END:DAYLIGHT
END:VTIMEZONE
BEGIN:VEVENT
UID:866240d4-4b9d-41f5-907c-74697b8e39ae
DTSTAMP:20260421T004608Z
DESCRIPTION:
DTSTART;TZID=America/Los_Angeles:20260713T160000
DTEND;TZID=America/Los_Angeles:20260713T200000
LOCATION:
SUMMARY:Preservice Training - Summer 2026
END:VEVENT
END:VCALENDAR
