BEGIN:VCALENDAR
VERSION:2.0
PRODID:-//washoecasafoundation.com//NONSGML kigkonsult.se iCalcreator 2.30.
 10//
CALSCALE:GREGORIAN
METHOD:PUBLISH
UID:41c5d08e-8e4a-4bb4-826b-0966b3418888
X-WR-CALDESC:
X-WR-RELCALID:caf7f17ca32c0354627a47baa204fa56
X-WR-TIMEZONE:America/Los_Angeles
BEGIN:VTIMEZONE
TZID:America/Los_Angeles
BEGIN:STANDARD
TZNAME:PST
DTSTART:20251102T020000
TZOFFSETFROM:-0700
TZOFFSETTO:-0800
RDATE:20261101T020000
RDATE:20271107T020000
END:STANDARD
BEGIN:DAYLIGHT
TZNAME:PDT
DTSTART:20260308T020000
TZOFFSETFROM:-0800
TZOFFSETTO:-0700
RDATE:20270314T020000
END:DAYLIGHT
END:VTIMEZONE
BEGIN:VEVENT
UID:6714957f-de0a-4ab1-808d-7f26c9042beb
DTSTAMP:20260421T004440Z
DESCRIPTION:
DTSTART;TZID=America/Los_Angeles:20260706T160000
DTEND;TZID=America/Los_Angeles:20260706T200000
LOCATION:
SUMMARY:Preservice Training - Summer 2026
END:VEVENT
END:VCALENDAR
