BEGIN:VCALENDAR
VERSION:2.0
PRODID:-//washoecasafoundation.com//NONSGML kigkonsult.se iCalcreator 2.30.
 10//
CALSCALE:GREGORIAN
METHOD:PUBLISH
UID:4004740a-01dd-4764-9e04-5a06eb4bc81d
X-WR-CALDESC:
X-WR-RELCALID:f938f06670361004c5f97700283c6b07
X-WR-TIMEZONE:America/Los_Angeles
BEGIN:VTIMEZONE
TZID:America/Los_Angeles
BEGIN:STANDARD
TZNAME:PST
DTSTART:20251102T020000
TZOFFSETFROM:-0700
TZOFFSETTO:-0800
RDATE:20261101T020000
RDATE:20271107T020000
END:STANDARD
BEGIN:DAYLIGHT
TZNAME:PDT
DTSTART:20260308T020000
TZOFFSETFROM:-0800
TZOFFSETTO:-0700
RDATE:20270314T020000
END:DAYLIGHT
END:VTIMEZONE
BEGIN:VEVENT
UID:b0ce31dd-de2d-4ef4-a404-f4aea5421560
DTSTAMP:20260421T004440Z
DESCRIPTION:
DTSTART;TZID=America/Los_Angeles:20260701T160000
DTEND;TZID=America/Los_Angeles:20260701T200000
LOCATION:
SUMMARY:Preservice Training - Summer 2026
END:VEVENT
END:VCALENDAR
