BEGIN:VCALENDAR
VERSION:2.0
PRODID:-//washoecasafoundation.com//NONSGML kigkonsult.se iCalcreator 2.30.
 10//
CALSCALE:GREGORIAN
METHOD:PUBLISH
UID:086edd60-7a4c-4448-ac45-03ab6fb579fb
X-WR-CALDESC:
X-WR-RELCALID:effac32428a25d1150ff5727b2a3142b
X-WR-TIMEZONE:America/Los_Angeles
BEGIN:VTIMEZONE
TZID:America/Los_Angeles
BEGIN:STANDARD
TZNAME:PST
DTSTART:20251102T020000
TZOFFSETFROM:-0700
TZOFFSETTO:-0800
RDATE:20261101T020000
RDATE:20271107T020000
END:STANDARD
BEGIN:DAYLIGHT
TZNAME:PDT
DTSTART:20260308T020000
TZOFFSETFROM:-0800
TZOFFSETTO:-0700
RDATE:20270314T020000
END:DAYLIGHT
END:VTIMEZONE
BEGIN:VEVENT
UID:8084bebe-4160-400a-8be3-57a4a0f54c74
DTSTAMP:20260420T231513Z
DESCRIPTION:
DTSTART;TZID=America/Los_Angeles:20260617T180000
DTEND;TZID=America/Los_Angeles:20260617T190000
LOCATION:https://us02web.zoom.us/meeting/register/m1vqvE__S9O1nPl0ltywZA
SUMMARY:Coffee with CASA - Evening Session
END:VEVENT
END:VCALENDAR
