BEGIN:VCALENDAR
VERSION:2.0
PRODID:-//washoecasafoundation.com//NONSGML kigkonsult.se iCalcreator 2.30.
 10//
CALSCALE:GREGORIAN
METHOD:PUBLISH
UID:213bf92c-7335-4223-8885-2197b544d73a
X-WR-CALDESC:
X-WR-RELCALID:bde3a28bde4fcfcdfecffa48a5012003
X-WR-TIMEZONE:America/Los_Angeles
BEGIN:VTIMEZONE
TZID:America/Los_Angeles
BEGIN:STANDARD
TZNAME:PST
DTSTART:20251102T020000
TZOFFSETFROM:-0700
TZOFFSETTO:-0800
RDATE:20261101T020000
RDATE:20271107T020000
END:STANDARD
BEGIN:DAYLIGHT
TZNAME:PDT
DTSTART:20260308T020000
TZOFFSETFROM:-0800
TZOFFSETTO:-0700
RDATE:20270314T020000
END:DAYLIGHT
END:VTIMEZONE
BEGIN:VEVENT
UID:514b55c4-19cd-4840-87d0-ff99786c1c55
DTSTAMP:20260421T032159Z
DESCRIPTION:
DTSTART;TZID=America/Los_Angeles:20260603T120000
DTEND;TZID=America/Los_Angeles:20260603T130000
LOCATION:https://us02web.zoom.us/meeting/register/CgLKYlo3QfyI59dGm1s_qw
SUMMARY:Coffee with CASA - Afternoon Session
END:VEVENT
END:VCALENDAR
