BEGIN:VCALENDAR
VERSION:2.0
PRODID:-//washoecasafoundation.com//NONSGML kigkonsult.se iCalcreator 2.30.
 10//
CALSCALE:GREGORIAN
METHOD:PUBLISH
UID:367c94a7-6b46-45de-8526-aab82fd4fdbc
X-WR-CALDESC:
X-WR-RELCALID:ec1b94171f0ea775b24fd0c5789b851f
X-WR-TIMEZONE:America/Los_Angeles
BEGIN:VTIMEZONE
TZID:America/Los_Angeles
BEGIN:STANDARD
TZNAME:PST
DTSTART:20251102T020000
TZOFFSETFROM:-0700
TZOFFSETTO:-0800
RDATE:20261101T020000
RDATE:20271107T020000
END:STANDARD
BEGIN:DAYLIGHT
TZNAME:PDT
DTSTART:20260308T020000
TZOFFSETFROM:-0800
TZOFFSETTO:-0700
RDATE:20270314T020000
END:DAYLIGHT
END:VTIMEZONE
BEGIN:VEVENT
UID:2dc44f74-039f-4748-9902-5861a16fe3b2
DTSTAMP:20260420T220344Z
DESCRIPTION:
DTSTART;TZID=America/Los_Angeles:20260520T180000
DTEND;TZID=America/Los_Angeles:20260520T190000
LOCATION:https://us02web.zoom.us/meeting/register/m1vqvE__S9O1nPl0ltywZA
SUMMARY:Coffee with CASA - Evening Session
END:VEVENT
END:VCALENDAR
