BEGIN:VCALENDAR
VERSION:2.0
PRODID:-//washoecasafoundation.com//NONSGML kigkonsult.se iCalcreator 2.30.
 10//
CALSCALE:GREGORIAN
METHOD:PUBLISH
UID:e2b589df-4647-45ff-b2c9-2c765f00e070
X-WR-CALDESC:
X-WR-RELCALID:e32281157f8a6b6e8a8e3db42df6ea75
X-WR-TIMEZONE:America/Los_Angeles
BEGIN:VTIMEZONE
TZID:America/Los_Angeles
BEGIN:STANDARD
TZNAME:PST
DTSTART:20251102T020000
TZOFFSETFROM:-0700
TZOFFSETTO:-0800
RDATE:20261101T020000
END:STANDARD
BEGIN:DAYLIGHT
TZNAME:PDT
DTSTART:20260308T020000
TZOFFSETFROM:-0800
TZOFFSETTO:-0700
RDATE:20270314T020000
END:DAYLIGHT
END:VTIMEZONE
BEGIN:VEVENT
UID:5d9c951c-a4c0-4be3-b54e-3973a4cebf93
DTSTAMP:20260420T220308Z
DESCRIPTION:
DTSTART;TZID=America/Los_Angeles:20260506T120000
DTEND;TZID=America/Los_Angeles:20260506T130000
LOCATION:https://us02web.zoom.us/meeting/register/CgLKYlo3QfyI59dGm1s_qw
SUMMARY:Coffee with CASA - Afternoon Session
END:VEVENT
END:VCALENDAR
