BEGIN:VCALENDAR
VERSION:2.0
PRODID:-//washoecasafoundation.com//NONSGML kigkonsult.se iCalcreator 2.30.
 10//
CALSCALE:GREGORIAN
METHOD:PUBLISH
UID:9f77594e-f64b-4c9e-bb79-a4d73c605da2
X-WR-CALDESC:SAVE THE DATE!\n\nThe Washoe CASA Foundation's Biggest Little 
 Easter Egg Hunt is back for its 5TH YEAR!\n\nJoin us Saturday\, March 28\,
  2026\, for a fun day in recognition of Child Abuse Prevention Month!\n\nS
 can the QR Code and follow along until the big event!\n\nAnd don't forget 
 to take a trip down memory lane and watch last year's video here: https://
 www.youtube.com/watch?v=_Wk62S4Uh7Y\n\n
X-WR-RELCALID:98e34fdb366f05445ac7ceec382ab4b9
X-WR-TIMEZONE:America/Los_Angeles
BEGIN:VTIMEZONE
TZID:America/Los_Angeles
BEGIN:STANDARD
TZNAME:PST
DTSTART:20251102T020000
TZOFFSETFROM:-0700
TZOFFSETTO:-0800
RDATE:20261101T020000
END:STANDARD
BEGIN:DAYLIGHT
TZNAME:PDT
DTSTART:20260308T020000
TZOFFSETFROM:-0800
TZOFFSETTO:-0700
RDATE:20270314T020000
END:DAYLIGHT
END:VTIMEZONE
BEGIN:VEVENT
UID:8f84ddf2-764b-442c-975f-aefd4c5e9ff3
DTSTAMP:20260420T220709Z
DESCRIPTION:SAVE THE DATE!\n\nThe Washoe CASA Foundation's Biggest Little E
 aster Egg Hunt is back for its 5TH YEAR!\n\nJoin us Saturday\, March 28\, 
 2026\, for a fun day in recognition of Child Abuse Prevention Month!\n\nSc
 an the QR Code and follow along until the big event!\n\nAnd don't forget t
 o take a trip down memory lane and watch last year's video here: https://w
 ww.youtube.com/watch?v=_Wk62S4Uh7Y\n\n
DTSTART;TZID=America/Los_Angeles:20260328T030000
DTEND;TZID=America/Los_Angeles:20260328T030001
LOCATION:Boys & Girls Club of Truckee Meadows\, 2680 E 9th Street\, Reno\, 
 AL 89512 US
SUMMARY:Biggest Little Easter Egg Hunt 2026
END:VEVENT
END:VCALENDAR
