BEGIN:VCALENDAR
VERSION:2.0
PRODID:-//washoecasafoundation.com//NONSGML kigkonsult.se iCalcreator 2.30.
 10//
CALSCALE:GREGORIAN
METHOD:PUBLISH
UID:4d70a56c-daa3-40b1-a19a-4a4c4eec23b7
X-WR-CALDESC:
X-WR-RELCALID:ba6cb1a8c70caa11f0e527a8529a8f25
X-WR-TIMEZONE:America/Los_Angeles
BEGIN:VTIMEZONE
TZID:America/Los_Angeles
BEGIN:STANDARD
TZNAME:PST
DTSTART:20251102T020000
TZOFFSETFROM:-0700
TZOFFSETTO:-0800
RDATE:20261101T020000
END:STANDARD
BEGIN:DAYLIGHT
TZNAME:PDT
DTSTART:20260308T020000
TZOFFSETFROM:-0800
TZOFFSETTO:-0700
RDATE:20270314T020000
END:DAYLIGHT
END:VTIMEZONE
BEGIN:VEVENT
UID:116ec86d-641e-45d9-a105-a57a30df87e4
DTSTAMP:20260420T220922Z
DESCRIPTION:
DTSTART;TZID=America/Los_Angeles:20260318T030000
DTEND;TZID=America/Los_Angeles:20260318T030001
LOCATION:https://us02web.zoom.us/meeting/register/rQFUUkgyQ3G6Xhyr_N2YYQ
SUMMARY:Coffee with CASA - Afternoon Session
END:VEVENT
END:VCALENDAR
