BEGIN:VCALENDAR
VERSION:2.0
PRODID:-//washoecasafoundation.com//NONSGML kigkonsult.se iCalcreator 2.30.
 10//
CALSCALE:GREGORIAN
METHOD:PUBLISH
UID:bab8211d-8dec-40ea-9e1d-15551c658040
X-WR-CALDESC:
X-WR-RELCALID:06a349031c56c745e6dda3eac9425e84
X-WR-TIMEZONE:America/Los_Angeles
BEGIN:VTIMEZONE
TZID:America/Los_Angeles
BEGIN:STANDARD
TZNAME:PST
DTSTART:20251102T020000
TZOFFSETFROM:-0700
TZOFFSETTO:-0800
RDATE:20261101T020000
END:STANDARD
BEGIN:DAYLIGHT
TZNAME:PDT
DTSTART:20260308T020000
TZOFFSETFROM:-0800
TZOFFSETTO:-0700
RDATE:20270314T020000
END:DAYLIGHT
END:VTIMEZONE
BEGIN:VEVENT
UID:f4673bf0-3c94-4f78-b717-ba5d6d0a342d
DTSTAMP:20260420T220922Z
DESCRIPTION:
DTSTART;TZID=America/Los_Angeles:20260316T160000
DTEND;TZID=America/Los_Angeles:20260316T200000
LOCATION:
SUMMARY:Preservice Training - Spring 2026
END:VEVENT
END:VCALENDAR
