BEGIN:VCALENDAR
VERSION:2.0
PRODID:-//washoecasafoundation.com//NONSGML kigkonsult.se iCalcreator 2.30.
 10//
CALSCALE:GREGORIAN
METHOD:PUBLISH
UID:f3e51950-c227-4b24-91b9-2fb55cceb9ea
X-WR-CALDESC:
X-WR-RELCALID:571f61c0a0be782f8cf43e0d7034aabd
X-WR-TIMEZONE:America/Los_Angeles
BEGIN:VTIMEZONE
TZID:America/Los_Angeles
BEGIN:STANDARD
TZNAME:PST
DTSTART:20251102T020000
TZOFFSETFROM:-0700
TZOFFSETTO:-0800
RDATE:20261101T020000
END:STANDARD
BEGIN:DAYLIGHT
TZNAME:PDT
DTSTART:20250309T020000
TZOFFSETFROM:-0800
TZOFFSETTO:-0700
RDATE:20260308T020000
RDATE:20270314T020000
END:DAYLIGHT
END:VTIMEZONE
BEGIN:VEVENT
UID:85ea9bd7-96b6-4b4c-b074-17a5a8ef6a9f
DTSTAMP:20260420T220957Z
DESCRIPTION:
DTSTART;TZID=America/Los_Angeles:20260307T090000
DTEND;TZID=America/Los_Angeles:20260307T140000
LOCATION:
SUMMARY:Preservice Training - Spring 2026
END:VEVENT
END:VCALENDAR
