BEGIN:VCALENDAR
VERSION:2.0
PRODID:-//washoecasafoundation.com//NONSGML kigkonsult.se iCalcreator 2.30.
 10//
CALSCALE:GREGORIAN
METHOD:PUBLISH
UID:fdb18945-ab8b-4a50-b4cf-96cee2b57c2f
X-WR-CALDESC:
X-WR-RELCALID:1aafd7d1d71af0dd2dc0508fc4b99666
X-WR-TIMEZONE:America/Los_Angeles
BEGIN:VTIMEZONE
TZID:America/Los_Angeles
BEGIN:STANDARD
TZNAME:PST
DTSTART:20251102T020000
TZOFFSETFROM:-0700
TZOFFSETTO:-0800
RDATE:20261101T020000
END:STANDARD
BEGIN:DAYLIGHT
TZNAME:PDT
DTSTART:20250309T020000
TZOFFSETFROM:-0800
TZOFFSETTO:-0700
RDATE:20260308T020000
RDATE:20270314T020000
END:DAYLIGHT
END:VTIMEZONE
BEGIN:VEVENT
UID:efd460ce-2c38-4a90-a2ac-a116c7521a6a
DTSTAMP:20260420T233752Z
DESCRIPTION:
DTSTART;TZID=America/Los_Angeles:20260223T160000
DTEND;TZID=America/Los_Angeles:20260223T200000
LOCATION:
SUMMARY:Preservice Training - Spring 2026
END:VEVENT
END:VCALENDAR
