BEGIN:VCALENDAR
VERSION:2.0
PRODID:-//washoecasafoundation.com//NONSGML kigkonsult.se iCalcreator 2.30.
 10//
CALSCALE:GREGORIAN
METHOD:PUBLISH
UID:74920c99-2845-4aaa-bd89-3a7e4ec85833
X-WR-CALDESC:
X-WR-RELCALID:20df2fcd0b669de55d11eb033305a3b3
X-WR-TIMEZONE:America/Los_Angeles
BEGIN:VTIMEZONE
TZID:America/Los_Angeles
BEGIN:STANDARD
TZNAME:PST
DTSTART:20251102T020000
TZOFFSETFROM:-0700
TZOFFSETTO:-0800
RDATE:20261101T020000
END:STANDARD
BEGIN:DAYLIGHT
TZNAME:PDT
DTSTART:20250309T020000
TZOFFSETFROM:-0800
TZOFFSETTO:-0700
RDATE:20260308T020000
RDATE:20270314T020000
END:DAYLIGHT
END:VTIMEZONE
BEGIN:VEVENT
UID:f7c32ed5-c327-4869-8ded-04ee1c78200e
DTSTAMP:20260420T233506Z
DESCRIPTION:
DTSTART;TZID=America/Los_Angeles:20260204T120000
DTEND;TZID=America/Los_Angeles:20260204T130000
LOCATION:https://us02web.zoom.us/meeting/register/CgLKYlo3QfyI59dGm1s_qw#/r
 egistration
SUMMARY:Coffee with CASA - Afternoon Session
END:VEVENT
END:VCALENDAR
