BEGIN:VCALENDAR
VERSION:2.0
PRODID:-//washoecasafoundation.com//NONSGML kigkonsult.se iCalcreator 2.30.
 10//
CALSCALE:GREGORIAN
METHOD:PUBLISH
UID:1b716dd4-1675-406b-b539-61c2d0de9d0f
X-WR-CALDESC:
X-WR-RELCALID:59fdadf531c7a525a149291305f64714
X-WR-TIMEZONE:America/Los_Angeles
BEGIN:VTIMEZONE
TZID:America/Los_Angeles
BEGIN:STANDARD
TZNAME:PST
DTSTART:20251102T020000
TZOFFSETFROM:-0700
TZOFFSETTO:-0800
RDATE:20261101T020000
END:STANDARD
BEGIN:DAYLIGHT
TZNAME:PDT
DTSTART:20250309T020000
TZOFFSETFROM:-0800
TZOFFSETTO:-0700
RDATE:20260308T020000
RDATE:20270314T020000
END:DAYLIGHT
END:VTIMEZONE
BEGIN:VEVENT
UID:4562cfd6-cc07-453b-aeb2-3223eba6eae0
DTSTAMP:20260421T010350Z
DESCRIPTION:
DTSTART;TZID=America/Los_Angeles:20260121T180000
DTEND;TZID=America/Los_Angeles:20260121T190000
LOCATION:https://us02web.zoom.us/meeting/register/m1vqvE__S9O1nPl0ltywZA
SUMMARY:Coffee with CASA
END:VEVENT
END:VCALENDAR
