BEGIN:VCALENDAR
VERSION:2.0
PRODID:-//washoecasafoundation.com//NONSGML kigkonsult.se iCalcreator 2.30.
 10//
CALSCALE:GREGORIAN
METHOD:PUBLISH
UID:9fc63d5c-2393-407f-87cf-bd06336905bd
X-WR-CALDESC:
X-WR-RELCALID:9f8880281fbfc6cb7353193e944c5122
X-WR-TIMEZONE:America/Los_Angeles
BEGIN:VTIMEZONE
TZID:America/Los_Angeles
BEGIN:STANDARD
TZNAME:PST
DTSTART:20251102T020000
TZOFFSETFROM:-0700
TZOFFSETTO:-0800
RDATE:20261101T020000
END:STANDARD
BEGIN:DAYLIGHT
TZNAME:PDT
DTSTART:20250309T020000
TZOFFSETFROM:-0800
TZOFFSETTO:-0700
RDATE:20260308T020000
RDATE:20270314T020000
END:DAYLIGHT
END:VTIMEZONE
BEGIN:VEVENT
UID:99d20e02-45e9-49fa-a8b4-a87dd4480bab
DTSTAMP:20260421T010049Z
DESCRIPTION:
DTSTART;TZID=America/Los_Angeles:20260113T173000
DTEND;TZID=America/Los_Angeles:20260113T190000
LOCATION:
SUMMARY:CASA Support Group
END:VEVENT
END:VCALENDAR
