BEGIN:VCALENDAR
VERSION:2.0
PRODID:-//washoecasafoundation.com//NONSGML kigkonsult.se iCalcreator 2.30.
 10//
CALSCALE:GREGORIAN
METHOD:PUBLISH
UID:12298b51-82da-4bad-abd6-127665fb9f5f
X-WR-CALDESC:
X-WR-RELCALID:348da719f6b8757c5f4bf875594a66da
X-WR-TIMEZONE:America/Los_Angeles
BEGIN:VTIMEZONE
TZID:America/Los_Angeles
BEGIN:STANDARD
TZNAME:PST
DTSTART:20251102T020000
TZOFFSETFROM:-0700
TZOFFSETTO:-0800
RDATE:20261101T020000
END:STANDARD
BEGIN:DAYLIGHT
TZNAME:PDT
DTSTART:20250309T020000
TZOFFSETFROM:-0800
TZOFFSETTO:-0700
RDATE:20260308T020000
RDATE:20270314T020000
END:DAYLIGHT
END:VTIMEZONE
BEGIN:VEVENT
UID:b777ad49-c000-4429-b69c-bddca70dab34
DTSTAMP:20260421T010121Z
DESCRIPTION:
DTSTART;TZID=America/Los_Angeles:20260109T120000
DTEND;TZID=America/Los_Angeles:20260109T160000
LOCATION:
SUMMARY:Board Member Strategic Planning Session
END:VEVENT
END:VCALENDAR
