BEGIN:VCALENDAR
VERSION:2.0
PRODID:-//washoecasafoundation.com//NONSGML kigkonsult.se iCalcreator 2.30.
 10//
CALSCALE:GREGORIAN
METHOD:PUBLISH
UID:4b0dd78d-dfa8-4938-8a32-22971a1fa467
X-WR-CALDESC:Happy Holidays from all of us at the Washoe CASA Foundation!
X-WR-RELCALID:e52d8b5c3e305fd26ad3dccd6f0a055b
X-WR-TIMEZONE:America/Los_Angeles
BEGIN:VTIMEZONE
TZID:America/Los_Angeles
BEGIN:STANDARD
TZNAME:PST
DTSTART:20251102T020000
TZOFFSETFROM:-0700
TZOFFSETTO:-0800
RDATE:20261101T020000
END:STANDARD
BEGIN:DAYLIGHT
TZNAME:PDT
DTSTART:20250309T020000
TZOFFSETFROM:-0800
TZOFFSETTO:-0700
RDATE:20260308T020000
RDATE:20270314T020000
END:DAYLIGHT
END:VTIMEZONE
BEGIN:VEVENT
UID:7ff088ff-92e7-490a-bb4c-13f3b08d71ad
DTSTAMP:20260421T023021Z
DESCRIPTION:Happy Holidays from all of us at the Washoe CASA Foundation!
DTSTART;TZID=America/Los_Angeles:20251225T030000
DTEND;TZID=America/Los_Angeles:20251225T030001
LOCATION:
SUMMARY:Christmas Day
END:VEVENT
END:VCALENDAR
