BEGIN:VCALENDAR
VERSION:2.0
PRODID:-//washoecasafoundation.com//NONSGML kigkonsult.se iCalcreator 2.30.
 10//
CALSCALE:GREGORIAN
METHOD:PUBLISH
UID:183bebb9-be4c-47b9-b327-23bf57e66e81
X-WR-CALDESC:For children who have experienced neglect or abuse\, having a 
 caring CASA volunteer to advocate for them can make a life-changing differ
 ence.\n\nYour gift can make this possible. Please consider supporting the 
 Washoe CASA Foundation this Giving Tuesday\, and you can help change a chi
 ld's story!\n\nDonate Today!
X-WR-RELCALID:499c1791a2b456a6247b6244f61a1752
X-WR-TIMEZONE:America/Los_Angeles
BEGIN:VTIMEZONE
TZID:America/Los_Angeles
BEGIN:STANDARD
TZNAME:PST
DTSTART:20251102T020000
TZOFFSETFROM:-0700
TZOFFSETTO:-0800
RDATE:20261101T020000
END:STANDARD
BEGIN:DAYLIGHT
TZNAME:PDT
DTSTART:20250309T020000
TZOFFSETFROM:-0800
TZOFFSETTO:-0700
RDATE:20260308T020000
RDATE:20270314T020000
END:DAYLIGHT
END:VTIMEZONE
BEGIN:VEVENT
UID:e0884e16-67a9-4f64-a025-beb77d80058d
DTSTAMP:20260421T023939Z
DESCRIPTION:For children who have experienced neglect or abuse\, having a c
 aring CASA volunteer to advocate for them can make a life-changing differe
 nce.\n\nYour gift can make this possible. Please consider supporting the W
 ashoe CASA Foundation this Giving Tuesday\, and you can help change a chil
 d's story!\n\nDonate Today!
DTSTART;TZID=America/Los_Angeles:20251202T030000
DTEND;TZID=America/Los_Angeles:20251202T030001
LOCATION:https://washoecasafoundation.com/give/donate.html
SUMMARY:Giving Tuesday 2025
END:VEVENT
END:VCALENDAR
