BEGIN:VCALENDAR
VERSION:2.0
PRODID:-//washoecasafoundation.com//NONSGML kigkonsult.se iCalcreator 2.30.
 10//
CALSCALE:GREGORIAN
METHOD:PUBLISH
UID:63af8b18-cd35-48cf-be7c-a5255c361907
X-WR-CALDESC:We’re thankful today—and every day—for the dedicated CASA volu
 nteers who help children feel heard\, valued\, and seen. 🧡n\nHappy Thanksg
 iving from Washoe CASA!
X-WR-RELCALID:c4184f1c91224e523868024cb540e3e7
X-WR-TIMEZONE:America/Los_Angeles
BEGIN:VTIMEZONE
TZID:America/Los_Angeles
BEGIN:STANDARD
TZNAME:PST
DTSTART:20251102T020000
TZOFFSETFROM:-0700
TZOFFSETTO:-0800
RDATE:20261101T020000
END:STANDARD
BEGIN:DAYLIGHT
TZNAME:PDT
DTSTART:20250309T020000
TZOFFSETFROM:-0800
TZOFFSETTO:-0700
RDATE:20260308T020000
RDATE:20270314T020000
END:DAYLIGHT
END:VTIMEZONE
BEGIN:VEVENT
UID:948e87b0-f5d6-45bb-a818-38dd951e8d63
DTSTAMP:20260421T035009Z
DESCRIPTION:We’re thankful today—and every day—for the dedicated CASA volun
 teers who help children feel heard\, valued\, and seen. 🧡n\nHappy Thanksgi
 ving from Washoe CASA!
DTSTART;TZID=America/Los_Angeles:20251127T030000
DTEND;TZID=America/Los_Angeles:20251127T030001
LOCATION:
SUMMARY:Happy Thanksgiving
END:VEVENT
END:VCALENDAR
