BEGIN:VCALENDAR
VERSION:2.0
PRODID:-//washoecasafoundation.com//NONSGML kigkonsult.se iCalcreator 2.30.
 10//
CALSCALE:GREGORIAN
METHOD:PUBLISH
UID:bf31e703-9a5a-4ddb-b519-06f55538ce40
X-WR-CALDESC:
X-WR-RELCALID:572fbe087e396e7b29556ecfd9e6f7cf
X-WR-TIMEZONE:America/Los_Angeles
BEGIN:VTIMEZONE
TZID:America/Los_Angeles
BEGIN:STANDARD
TZNAME:PST
DTSTART:20251102T020000
TZOFFSETFROM:-0700
TZOFFSETTO:-0800
RDATE:20261101T020000
END:STANDARD
BEGIN:DAYLIGHT
TZNAME:PDT
DTSTART:20250309T020000
TZOFFSETFROM:-0800
TZOFFSETTO:-0700
RDATE:20260308T020000
RDATE:20270314T020000
END:DAYLIGHT
END:VTIMEZONE
BEGIN:VEVENT
UID:6dda6a81-bc06-4cae-aa27-48429c03b811
DTSTAMP:20260421T035147Z
DESCRIPTION:
DTSTART;TZID=America/Los_Angeles:20251119T180000
DTEND;TZID=America/Los_Angeles:20251119T190000
LOCATION:https://us02web.zoom.us/meeting/register/Idrd4HtTRK60NsKiHa9Vgw
SUMMARY:Coffee with CASA
END:VEVENT
END:VCALENDAR
