BEGIN:VCALENDAR
VERSION:2.0
PRODID:-//washoecasafoundation.com//NONSGML kigkonsult.se iCalcreator 2.30.
 10//
CALSCALE:GREGORIAN
METHOD:PUBLISH
UID:f7d3f53b-1f65-4f33-addf-2e8fd2e1f20c
X-WR-CALDESC:
X-WR-RELCALID:046a4c245a2e4f5e1e05d480061687ef
X-WR-TIMEZONE:America/Los_Angeles
BEGIN:VTIMEZONE
TZID:America/Los_Angeles
BEGIN:STANDARD
TZNAME:PST
DTSTART:20251102T020000
TZOFFSETFROM:-0700
TZOFFSETTO:-0800
RDATE:20261101T020000
END:STANDARD
BEGIN:DAYLIGHT
TZNAME:PDT
DTSTART:20250309T020000
TZOFFSETFROM:-0800
TZOFFSETTO:-0700
RDATE:20260308T020000
RDATE:20270314T020000
END:DAYLIGHT
END:VTIMEZONE
BEGIN:VEVENT
UID:a0cc2895-46e7-4433-b14d-aab73ef62222
DTSTAMP:20260421T034948Z
DESCRIPTION:
DTSTART;TZID=America/Los_Angeles:20251106T120000
DTEND;TZID=America/Los_Angeles:20251106T130000
LOCATION:
SUMMARY:CASA Swearing In - Fall Class 2025
END:VEVENT
END:VCALENDAR
