BEGIN:VCALENDAR
VERSION:2.0
PRODID:-//washoecasafoundation.com//NONSGML kigkonsult.se iCalcreator 2.30.
 10//
CALSCALE:GREGORIAN
METHOD:PUBLISH
UID:99453c72-5af5-4458-bd0e-287ce16901d3
X-WR-CALDESC:Happy #NevadaDay! ðŸŽ‰n\nToday we celebrate the Silver State weâ€™r
 e proud to call homeâ€”and the incredible community that makes it shine.\n 
 \nðnðŸThank you to our Washoe CASA volunteers for making our state stronger\,
  one child at a time.
X-WR-RELCALID:ad4cf6667cc606963f69b068d236b530
X-WR-TIMEZONE:America/Los_Angeles
BEGIN:VTIMEZONE
TZID:America/Los_Angeles
BEGIN:STANDARD
TZNAME:PST
DTSTART:20241103T020000
TZOFFSETFROM:-0700
TZOFFSETTO:-0800
RDATE:20251102T020000
RDATE:20261101T020000
END:STANDARD
BEGIN:DAYLIGHT
TZNAME:PDT
DTSTART:20250309T020000
TZOFFSETFROM:-0800
TZOFFSETTO:-0700
RDATE:20260308T020000
RDATE:20270314T020000
END:DAYLIGHT
END:VTIMEZONE
BEGIN:VEVENT
UID:e06d7e1a-dc46-4c06-becf-081699375c89
DTSTAMP:20260421T050049Z
DESCRIPTION:Happy #NevadaDay! ðŸŽ‰n\nToday we celebrate the Silver State weâ€™re
  proud to call homeâ€”and the incredible community that makes it shine.\n \n
 ðŸ’™Thank you to our Washoe CASA volunteers for making our state stronger\, o
 ne child at a time.
DTSTART;TZID=America/Los_Angeles:20251031T030000
DTEND;TZID=America/Los_Angeles:20251031T030001
LOCATION:
SUMMARY:Nevada Day
END:VEVENT
END:VCALENDAR
