BEGIN:VCALENDAR
VERSION:2.0
PRODID:-//washoecasafoundation.com//NONSGML kigkonsult.se iCalcreator 2.30.
 10//
CALSCALE:GREGORIAN
METHOD:PUBLISH
UID:f92566b9-97e7-48ba-a26d-904a995f54b0
X-WR-CALDESC:CASA Board of Trustees Meeting\nEvery Third Tuesday of the Mon
 th\n5:30-6:45pm\n\n
X-WR-RELCALID:7eddcddf2c061df2681dceba0a3bb612
X-WR-TIMEZONE:America/Los_Angeles
BEGIN:VTIMEZONE
TZID:America/Los_Angeles
BEGIN:STANDARD
TZNAME:PST
DTSTART:20241103T020000
TZOFFSETFROM:-0700
TZOFFSETTO:-0800
RDATE:20251102T020000
RDATE:20261101T020000
END:STANDARD
BEGIN:DAYLIGHT
TZNAME:PDT
DTSTART:20250309T020000
TZOFFSETFROM:-0800
TZOFFSETTO:-0700
RDATE:20260308T020000
END:DAYLIGHT
END:VTIMEZONE
BEGIN:VEVENT
UID:626e1331-0527-4adc-9ab2-4aed544c5213
DTSTAMP:20260421T090816Z
DESCRIPTION:CASA Board of Trustees Meeting\nEvery Third Tuesday of the Mont
 h\n5:30-6:45pm\n\n
DTSTART;TZID=America/Los_Angeles:20250715T173000
DTEND;TZID=America/Los_Angeles:20250715T194500
LOCATION:
SUMMARY:Board of Trustees Meeting
END:VEVENT
END:VCALENDAR
