BEGIN:VCALENDAR
VERSION:2.0
PRODID:-//washoecasafoundation.com//NONSGML kigkonsult.se iCalcreator 2.30.
 10//
CALSCALE:GREGORIAN
METHOD:PUBLISH
UID:f820bbf9-c0f3-4467-bb2d-334ab93ddd1b
X-WR-CALDESC:
X-WR-RELCALID:c5ca909251b2f8cb9cc9dd33e77fd928
X-WR-TIMEZONE:America/Los_Angeles
BEGIN:VTIMEZONE
TZID:America/Los_Angeles
BEGIN:STANDARD
TZNAME:PST
DTSTART:20241103T020000
TZOFFSETFROM:-0700
TZOFFSETTO:-0800
RDATE:20251102T020000
RDATE:20261101T020000
END:STANDARD
BEGIN:DAYLIGHT
TZNAME:PDT
DTSTART:20250309T020000
TZOFFSETFROM:-0800
TZOFFSETTO:-0700
RDATE:20260308T020000
END:DAYLIGHT
END:VTIMEZONE
BEGIN:VEVENT
UID:b78e24ed-a2ba-479f-80b8-89e5b20efcb6
DTSTAMP:20260421T090222Z
DESCRIPTION:
DTSTART;TZID=America/Los_Angeles:20250708T173000
DTEND;TZID=America/Los_Angeles:20250708T190000
LOCATION:
SUMMARY:CASA Support Group
END:VEVENT
END:VCALENDAR
