BEGIN:VCALENDAR
VERSION:2.0
PRODID:-//washoecasafoundation.com//NONSGML kigkonsult.se iCalcreator 2.30.
 10//
CALSCALE:GREGORIAN
METHOD:PUBLISH
UID:b0cda5c2-2476-4961-813b-f5e0bf0c81ad
X-WR-CALDESC:
X-WR-RELCALID:c7f6e4774347b92b7f6fa569eeb4eff8
X-WR-TIMEZONE:America/Los_Angeles
BEGIN:VTIMEZONE
TZID:America/Los_Angeles
BEGIN:STANDARD
TZNAME:PST
DTSTART:20241103T020000
TZOFFSETFROM:-0700
TZOFFSETTO:-0800
RDATE:20251102T020000
RDATE:20261101T020000
END:STANDARD
BEGIN:DAYLIGHT
TZNAME:PDT
DTSTART:20250309T020000
TZOFFSETFROM:-0800
TZOFFSETTO:-0700
RDATE:20260308T020000
END:DAYLIGHT
END:VTIMEZONE
BEGIN:VEVENT
UID:27e26d9d-f63c-4014-ae38-63b4e53ab492
DTSTAMP:20260421T103513Z
DESCRIPTION:
DTSTART;TZID=America/Los_Angeles:20250630T160000
DTEND;TZID=America/Los_Angeles:20250630T200000
LOCATION:
SUMMARY:CASA Training - Summer 2025
END:VEVENT
END:VCALENDAR
