BEGIN:VCALENDAR
VERSION:2.0
PRODID:-//washoecasafoundation.com//NONSGML kigkonsult.se iCalcreator 2.30.
 10//
CALSCALE:GREGORIAN
METHOD:PUBLISH
UID:f6b4177e-fd00-48b2-8f70-935036911cac
X-WR-CALDESC:
X-WR-RELCALID:f83e111ecccc610e30f3882db5fa52ff
X-WR-TIMEZONE:America/Los_Angeles
BEGIN:VTIMEZONE
TZID:America/Los_Angeles
BEGIN:STANDARD
TZNAME:PST
DTSTART:20241103T020000
TZOFFSETFROM:-0700
TZOFFSETTO:-0800
RDATE:20251102T020000
RDATE:20261101T020000
END:STANDARD
BEGIN:DAYLIGHT
TZNAME:PDT
DTSTART:20250309T020000
TZOFFSETFROM:-0800
TZOFFSETTO:-0700
RDATE:20260308T020000
END:DAYLIGHT
END:VTIMEZONE
BEGIN:VEVENT
UID:3a56e187-52b4-47f6-8165-1da2c1d8655a
DTSTAMP:20260421T103221Z
DESCRIPTION:
DTSTART;TZID=America/Los_Angeles:20250625T160000
DTEND;TZID=America/Los_Angeles:20250625T200000
LOCATION:
SUMMARY:CASA Training - Summer 2025
END:VEVENT
END:VCALENDAR
