BEGIN:VCALENDAR
VERSION:2.0
PRODID:-//washoecasafoundation.com//NONSGML kigkonsult.se iCalcreator 2.30.
 10//
CALSCALE:GREGORIAN
METHOD:PUBLISH
UID:8a968e15-84f8-4632-97e5-b3df7918b1bf
X-WR-CALDESC:
X-WR-RELCALID:4b6121f503365d6d2ce2c6e24cf70487
X-WR-TIMEZONE:America/Los_Angeles
BEGIN:VTIMEZONE
TZID:America/Los_Angeles
BEGIN:STANDARD
TZNAME:PST
DTSTART:20241103T020000
TZOFFSETFROM:-0700
TZOFFSETTO:-0800
RDATE:20251102T020000
RDATE:20261101T020000
END:STANDARD
BEGIN:DAYLIGHT
TZNAME:PDT
DTSTART:20250309T020000
TZOFFSETFROM:-0800
TZOFFSETTO:-0700
RDATE:20260308T020000
END:DAYLIGHT
END:VTIMEZONE
BEGIN:VEVENT
UID:e752c4f4-4a9c-4a7e-acb7-554e3296cef9
DTSTAMP:20260421T102452Z
DESCRIPTION:
DTSTART;TZID=America/Los_Angeles:20250623T160000
DTEND;TZID=America/Los_Angeles:20250623T200000
LOCATION:
SUMMARY:CASA Training - Summer 2025
END:VEVENT
END:VCALENDAR
