BEGIN:VCALENDAR
VERSION:2.0
PRODID:-//washoecasafoundation.com//NONSGML kigkonsult.se iCalcreator 2.30.
 10//
CALSCALE:GREGORIAN
METHOD:PUBLISH
UID:c6194b2e-b1b8-44ad-8479-11d7d8b5b2a1
X-WR-CALDESC:
X-WR-RELCALID:b67f19211f0385986fdad97f0f72845f
X-WR-TIMEZONE:America/Los_Angeles
BEGIN:VTIMEZONE
TZID:America/Los_Angeles
BEGIN:STANDARD
TZNAME:PST
DTSTART:20241103T020000
TZOFFSETFROM:-0700
TZOFFSETTO:-0800
RDATE:20251102T020000
RDATE:20261101T020000
END:STANDARD
BEGIN:DAYLIGHT
TZNAME:PDT
DTSTART:20250309T020000
TZOFFSETFROM:-0800
TZOFFSETTO:-0700
RDATE:20260308T020000
END:DAYLIGHT
END:VTIMEZONE
BEGIN:VEVENT
UID:37aa577c-d7b9-4cbd-8cb4-fc468a8eeb39
DTSTAMP:20260421T103513Z
DESCRIPTION:
DTSTART;TZID=America/Los_Angeles:20250616T160000
DTEND;TZID=America/Los_Angeles:20250616T200000
LOCATION:
SUMMARY:CASA Training - Summer 2025
END:VEVENT
END:VCALENDAR
