BEGIN:VCALENDAR
VERSION:2.0
PRODID:-//washoecasafoundation.com//NONSGML kigkonsult.se iCalcreator 2.30.
 10//
CALSCALE:GREGORIAN
METHOD:PUBLISH
UID:aa0f15bc-0d65-4fdc-88cf-8b9018d0368e
X-WR-CALDESC:Register today!  \nhttps://us02web.zoom.us/j/81163284377?pwd=P
 zvWJsU4WcGgXVjX9N6aXFhkKlotMt.1\n
X-WR-RELCALID:2db252f62964c880da514589fd47d8f9
X-WR-TIMEZONE:America/Los_Angeles
BEGIN:VTIMEZONE
TZID:America/Los_Angeles
BEGIN:STANDARD
TZNAME:PST
DTSTART:20241103T020000
TZOFFSETFROM:-0700
TZOFFSETTO:-0800
RDATE:20251102T020000
RDATE:20261101T020000
END:STANDARD
BEGIN:DAYLIGHT
TZNAME:PDT
DTSTART:20250309T020000
TZOFFSETFROM:-0800
TZOFFSETTO:-0700
RDATE:20260308T020000
END:DAYLIGHT
END:VTIMEZONE
BEGIN:VEVENT
UID:bbf1f2dd-3d64-4bf4-a97f-d251051b30f5
DTSTAMP:20260421T103529Z
DESCRIPTION:Register today!  \nhttps://us02web.zoom.us/j/81163284377?pwd=Pz
 vWJsU4WcGgXVjX9N6aXFhkKlotMt.1\n
DTSTART;TZID=America/Los_Angeles:20250604T120000
DTEND;TZID=America/Los_Angeles:20250604T130000
LOCATION:
SUMMARY:Coffee with CASA 6/4/2025
END:VEVENT
END:VCALENDAR
