BEGIN:VCALENDAR
VERSION:2.0
PRODID:-//washoecasafoundation.com//NONSGML kigkonsult.se iCalcreator 2.30.
 10//
CALSCALE:GREGORIAN
METHOD:PUBLISH
UID:3ede6a9b-d3ab-407a-9391-cd9b966621ad
X-WR-CALDESC:Register today!  \nhttps://us02web.zoom.us/meeting/register/8_
 0gIcwaRF2Rimg0YhZzow\n
X-WR-RELCALID:027b9f8eb63f19ae890a491bac286157
X-WR-TIMEZONE:America/Los_Angeles
BEGIN:VTIMEZONE
TZID:America/Los_Angeles
BEGIN:STANDARD
TZNAME:PST
DTSTART:20241103T020000
TZOFFSETFROM:-0700
TZOFFSETTO:-0800
RDATE:20251102T020000
RDATE:20261101T020000
END:STANDARD
BEGIN:DAYLIGHT
TZNAME:PDT
DTSTART:20250309T020000
TZOFFSETFROM:-0800
TZOFFSETTO:-0700
RDATE:20260308T020000
END:DAYLIGHT
END:VTIMEZONE
BEGIN:VEVENT
UID:bdbae9c2-3f8c-4409-8c05-e885e0a73ab0
DTSTAMP:20260421T114906Z
DESCRIPTION:Register today!  \nhttps://us02web.zoom.us/meeting/register/8_0
 gIcwaRF2Rimg0YhZzow\n
DTSTART;TZID=America/Los_Angeles:20250521T180000
DTEND;TZID=America/Los_Angeles:20250521T190000
LOCATION:
SUMMARY:Coffee with CASA 5/21/2025
END:VEVENT
END:VCALENDAR
