BEGIN:VCALENDAR
VERSION:2.0
PRODID:-//washoecasafoundation.com//NONSGML kigkonsult.se iCalcreator 2.30.
 10//
CALSCALE:GREGORIAN
METHOD:PUBLISH
UID:e5c94133-24d8-4b64-a2ad-47355f606178
X-WR-CALDESC:Register today!  \nhttps://us02web.zoom.us/meeting/register/pp
 hDjMTnSN2dBtBm7Zmn_Q\n
X-WR-RELCALID:c63fbfa8665fa7aae9a671788f70b791
X-WR-TIMEZONE:America/Los_Angeles
BEGIN:VTIMEZONE
TZID:America/Los_Angeles
BEGIN:STANDARD
TZNAME:PST
DTSTART:20241103T020000
TZOFFSETFROM:-0700
TZOFFSETTO:-0800
RDATE:20251102T020000
RDATE:20261101T020000
END:STANDARD
BEGIN:DAYLIGHT
TZNAME:PDT
DTSTART:20250309T020000
TZOFFSETFROM:-0800
TZOFFSETTO:-0700
RDATE:20260308T020000
END:DAYLIGHT
END:VTIMEZONE
BEGIN:VEVENT
UID:b7ac6adc-39a7-4f35-9da8-06c1f2f24e03
DTSTAMP:20260421T114615Z
DESCRIPTION:Register today!  \nhttps://us02web.zoom.us/meeting/register/pph
 DjMTnSN2dBtBm7Zmn_Q\n
DTSTART;TZID=America/Los_Angeles:20250507T120000
DTEND;TZID=America/Los_Angeles:20250507T130000
LOCATION:
SUMMARY:Coffee with CASA 5/7/2025
END:VEVENT
END:VCALENDAR
