BEGIN:VCALENDAR
VERSION:2.0
PRODID:-//washoecasafoundation.com//NONSGML kigkonsult.se iCalcreator 2.30.
 10//
CALSCALE:GREGORIAN
METHOD:PUBLISH
UID:6b9aa062-c51e-4c0d-be44-d14f040d36db
X-WR-CALDESC:
X-WR-RELCALID:a1f9469cd5b97fccc2763f34520f2d0e
X-WR-TIMEZONE:America/Los_Angeles
BEGIN:VTIMEZONE
TZID:America/Los_Angeles
BEGIN:STANDARD
TZNAME:PST
DTSTART:20241103T020000
TZOFFSETFROM:-0700
TZOFFSETTO:-0800
RDATE:20251102T020000
END:STANDARD
BEGIN:DAYLIGHT
TZNAME:PDT
DTSTART:20250309T020000
TZOFFSETFROM:-0800
TZOFFSETTO:-0700
RDATE:20260308T020000
END:DAYLIGHT
END:VTIMEZONE
BEGIN:VEVENT
UID:57253656-2c42-49c8-9902-aff15ff2f5f2
DTSTAMP:20260421T130344Z
DESCRIPTION:
DTSTART;TZID=America/Los_Angeles:20250416T173000
DTEND;TZID=America/Los_Angeles:20250416T190000
LOCATION:7499 Longley Ln\, Reno\, NV 89511 US
SUMMARY:Coffee with CASA (In Person!)
END:VEVENT
END:VCALENDAR
