BEGIN:VCALENDAR
VERSION:2.0
PRODID:-//washoecasafoundation.com//NONSGML kigkonsult.se iCalcreator 2.30.
 10//
CALSCALE:GREGORIAN
METHOD:PUBLISH
UID:c95dd5a9-56e7-4f86-8bee-778b2d9baf85
X-WR-CALDESC:Register today!  \nApril 2nd: https://us02web.zoom.us/meeting/
 register/H4HA7kSgSVKBKUYxPFuAgQ\n
X-WR-RELCALID:d649e5d7fbb5cb28254bd60ac70f7c2d
X-WR-TIMEZONE:America/Los_Angeles
BEGIN:VTIMEZONE
TZID:America/Los_Angeles
BEGIN:STANDARD
TZNAME:PST
DTSTART:20241103T020000
TZOFFSETFROM:-0700
TZOFFSETTO:-0800
RDATE:20251102T020000
END:STANDARD
BEGIN:DAYLIGHT
TZNAME:PDT
DTSTART:20250309T020000
TZOFFSETFROM:-0800
TZOFFSETTO:-0700
RDATE:20260308T020000
END:DAYLIGHT
END:VTIMEZONE
BEGIN:VEVENT
UID:fd6df5c2-126f-4d3b-8db9-1af060c0d9e9
DTSTAMP:20260421T130344Z
DESCRIPTION:Register today!  \nApril 2nd: https://us02web.zoom.us/meeting/r
 egister/H4HA7kSgSVKBKUYxPFuAgQ\n
DTSTART;TZID=America/Los_Angeles:20250402T120000
DTEND;TZID=America/Los_Angeles:20250402T130000
LOCATION:
SUMMARY:Coffee with CASA 4/2/2025
END:VEVENT
END:VCALENDAR
