BEGIN:VCALENDAR
VERSION:2.0
PRODID:-//washoecasafoundation.com//NONSGML kigkonsult.se iCalcreator 2.30.
 10//
CALSCALE:GREGORIAN
METHOD:PUBLISH
UID:8944169c-86af-4421-abf2-f3c05b0c6de3
X-WR-CALDESC:Register today!  \nMarch 5th: https://us02web.zoom.us/meeting/
 register/Qi05IdX1SDiWAU-16NNVxw\nMarch 19th: https://us02web.zoom.us/meeti
 ng/register/WFYBieFoT2mP28YkeTHDwQ
X-WR-RELCALID:f77bab65fde519de8eb133af1ea2d833
X-WR-TIMEZONE:America/Los_Angeles
BEGIN:VTIMEZONE
TZID:America/Los_Angeles
BEGIN:STANDARD
TZNAME:PST
DTSTART:20241103T020000
TZOFFSETFROM:-0700
TZOFFSETTO:-0800
RDATE:20251102T020000
END:STANDARD
BEGIN:DAYLIGHT
TZNAME:PDT
DTSTART:20250309T020000
TZOFFSETFROM:-0800
TZOFFSETTO:-0700
RDATE:20260308T020000
END:DAYLIGHT
END:VTIMEZONE
BEGIN:VEVENT
UID:20bd7b70-c837-425b-a8d8-a6d83e62b3a1
DTSTAMP:20260421T141055Z
DESCRIPTION:Register today!  \nMarch 5th: https://us02web.zoom.us/meeting/r
 egister/Qi05IdX1SDiWAU-16NNVxw\nMarch 19th: https://us02web.zoom.us/meetin
 g/register/WFYBieFoT2mP28YkeTHDwQ
DTSTART;TZID=America/Los_Angeles:20250319T180000
DTEND;TZID=America/Los_Angeles:20250319T190000
LOCATION:
SUMMARY:Coffee with CASA 3/19/25
END:VEVENT
END:VCALENDAR
