BEGIN:VCALENDAR
VERSION:2.0
PRODID:-//washoecasafoundation.com//NONSGML kigkonsult.se iCalcreator 2.30.
 10//
CALSCALE:GREGORIAN
METHOD:PUBLISH
UID:6bae1cbb-c0f7-4cd5-90e1-296c8252c0b6
X-WR-CALDESC:
X-WR-RELCALID:41f66e164007debda9c6a7bfde8b92ec
X-WR-TIMEZONE:America/Los_Angeles
BEGIN:VTIMEZONE
TZID:America/Los_Angeles
BEGIN:STANDARD
TZNAME:PST
DTSTART:20241103T020000
TZOFFSETFROM:-0700
TZOFFSETTO:-0800
RDATE:20251102T020000
END:STANDARD
BEGIN:DAYLIGHT
TZNAME:PDT
DTSTART:20250309T020000
TZOFFSETFROM:-0800
TZOFFSETTO:-0700
RDATE:20260308T020000
END:DAYLIGHT
END:VTIMEZONE
BEGIN:VEVENT
UID:a305f0bc-0379-4dd6-8fd9-ce402e9d0fa0
DTSTAMP:20260421T140800Z
DESCRIPTION:
DTSTART;TZID=America/Los_Angeles:20250313T120000
DTEND;TZID=America/Los_Angeles:20250313T130000
LOCATION:
SUMMARY:Winter 2025 CASA Class Swearing In
END:VEVENT
END:VCALENDAR
