BEGIN:VCALENDAR
VERSION:2.0
PRODID:-//washoecasafoundation.com//NONSGML kigkonsult.se iCalcreator 2.30.
 10//
CALSCALE:GREGORIAN
METHOD:PUBLISH
UID:54791080-e902-4037-a319-f376f9b98b4d
X-WR-CALDESC:Register today!  \nMarch 5th: https://us02web.zoom.us/meeting/
 register/Qi05IdX1SDiWAU-16NNVxw\nMarch 19th: https://us02web.zoom.us/meeti
 ng/register/WFYBieFoT2mP28YkeTHDwQ
X-WR-RELCALID:7d6e4604b1bf23da772786cd7e7d52eb
X-WR-TIMEZONE:America/Los_Angeles
BEGIN:VTIMEZONE
TZID:America/Los_Angeles
BEGIN:STANDARD
TZNAME:PST
DTSTART:20241103T020000
TZOFFSETFROM:-0700
TZOFFSETTO:-0800
RDATE:20251102T020000
END:STANDARD
BEGIN:DAYLIGHT
TZNAME:PDT
DTSTART:20240310T020000
TZOFFSETFROM:-0800
TZOFFSETTO:-0700
RDATE:20250309T020000
RDATE:20260308T020000
END:DAYLIGHT
END:VTIMEZONE
BEGIN:VEVENT
UID:265a286b-d763-4c3d-9f8b-9bd3d0cd2517
DTSTAMP:20260421T141143Z
DESCRIPTION:Register today!  \nMarch 5th: https://us02web.zoom.us/meeting/r
 egister/Qi05IdX1SDiWAU-16NNVxw\nMarch 19th: https://us02web.zoom.us/meetin
 g/register/WFYBieFoT2mP28YkeTHDwQ
DTSTART;TZID=America/Los_Angeles:20250305T120000
DTEND;TZID=America/Los_Angeles:20250305T130000
LOCATION:
SUMMARY:Coffee with CASA 3/5/25
END:VEVENT
END:VCALENDAR
