BEGIN:VCALENDAR
VERSION:2.0
PRODID:-//washoecasafoundation.com//NONSGML kigkonsult.se iCalcreator 2.30.
 10//
CALSCALE:GREGORIAN
METHOD:PUBLISH
UID:3bcaa409-4f6d-4ce6-8761-fe01fcf732d1
X-WR-CALDESC:
X-WR-RELCALID:5303d94ba91cfeae47f437db72ce0876
X-WR-TIMEZONE:America/Los_Angeles
BEGIN:VTIMEZONE
TZID:America/Los_Angeles
BEGIN:STANDARD
TZNAME:PST
DTSTART:20241103T020000
TZOFFSETFROM:-0700
TZOFFSETTO:-0800
RDATE:20251102T020000
END:STANDARD
BEGIN:DAYLIGHT
TZNAME:PDT
DTSTART:20240310T020000
TZOFFSETFROM:-0800
TZOFFSETTO:-0700
RDATE:20250309T020000
RDATE:20260308T020000
END:DAYLIGHT
END:VTIMEZONE
BEGIN:VEVENT
UID:a70021b6-9153-4d0a-9d31-d446d962ea42
DTSTAMP:20260421T140850Z
DESCRIPTION:
DTSTART;TZID=America/Los_Angeles:20250305T160000
DTEND;TZID=America/Los_Angeles:20250305T200000
LOCATION:
SUMMARY:Winter 2025 CASA Training
END:VEVENT
END:VCALENDAR
