BEGIN:VCALENDAR
VERSION:2.0
PRODID:-//washoecasafoundation.com//NONSGML kigkonsult.se iCalcreator 2.30.
 10//
CALSCALE:GREGORIAN
METHOD:PUBLISH
UID:c165dcc7-37b5-4e5d-b6a7-f8d12e886cb2
X-WR-CALDESC:
X-WR-RELCALID:a9d08c1b54391cc51d2c0c616dff7884
X-WR-TIMEZONE:America/Los_Angeles
BEGIN:VTIMEZONE
TZID:America/Los_Angeles
BEGIN:STANDARD
TZNAME:PST
DTSTART:20241103T020000
TZOFFSETFROM:-0700
TZOFFSETTO:-0800
RDATE:20251102T020000
END:STANDARD
BEGIN:DAYLIGHT
TZNAME:PDT
DTSTART:20240310T020000
TZOFFSETFROM:-0800
TZOFFSETTO:-0700
RDATE:20250309T020000
RDATE:20260308T020000
END:DAYLIGHT
END:VTIMEZONE
BEGIN:VEVENT
UID:1c48c23b-e8e8-45cc-b6e9-87a32452f75f
DTSTAMP:20260421T154107Z
DESCRIPTION:
DTSTART;TZID=America/Los_Angeles:20250224T160000
DTEND;TZID=America/Los_Angeles:20250224T200000
LOCATION:
SUMMARY:Winter 2025 CASA Training
END:VEVENT
END:VCALENDAR
