BEGIN:VCALENDAR
VERSION:2.0
PRODID:-//washoecasafoundation.com//NONSGML kigkonsult.se iCalcreator 2.30.
 10//
CALSCALE:GREGORIAN
METHOD:PUBLISH
UID:1e4a3215-1e15-48cc-98c2-61c910039891
X-WR-CALDESC:
X-WR-RELCALID:e3ca07546e06288374e6d0f1ec086253
X-WR-TIMEZONE:America/Los_Angeles
BEGIN:VTIMEZONE
TZID:America/Los_Angeles
BEGIN:STANDARD
TZNAME:PST
DTSTART:20241103T020000
TZOFFSETFROM:-0700
TZOFFSETTO:-0800
RDATE:20251102T020000
END:STANDARD
BEGIN:DAYLIGHT
TZNAME:PDT
DTSTART:20240310T020000
TZOFFSETFROM:-0800
TZOFFSETTO:-0700
RDATE:20250309T020000
RDATE:20260308T020000
END:DAYLIGHT
END:VTIMEZONE
BEGIN:VEVENT
UID:997ab584-6cd1-4ada-8023-14ff7cd71144
DTSTAMP:20260421T151946Z
DESCRIPTION:
DTSTART;TZID=America/Los_Angeles:20250222T090000
DTEND;TZID=America/Los_Angeles:20250222T140000
LOCATION:
SUMMARY:Winter 2025 CASA Training
END:VEVENT
END:VCALENDAR
