BEGIN:VCALENDAR
VERSION:2.0
PRODID:-//washoecasafoundation.com//NONSGML kigkonsult.se iCalcreator 2.30.
 10//
CALSCALE:GREGORIAN
METHOD:PUBLISH
UID:80e15e4e-fb62-4c06-bf03-f628e53280fc
X-WR-CALDESC:
X-WR-RELCALID:41d46cc9ab56f43981255a7c3c7daf9e
X-WR-TIMEZONE:America/Los_Angeles
BEGIN:VTIMEZONE
TZID:America/Los_Angeles
BEGIN:STANDARD
TZNAME:PST
DTSTART:20241103T020000
TZOFFSETFROM:-0700
TZOFFSETTO:-0800
RDATE:20251102T020000
END:STANDARD
BEGIN:DAYLIGHT
TZNAME:PDT
DTSTART:20240310T020000
TZOFFSETFROM:-0800
TZOFFSETTO:-0700
RDATE:20250309T020000
RDATE:20260308T020000
END:DAYLIGHT
END:VTIMEZONE
BEGIN:VEVENT
UID:e952c544-768e-45e8-896e-d351a44d401f
DTSTAMP:20260421T154408Z
DESCRIPTION:
DTSTART;TZID=America/Los_Angeles:20250205T030000
DTEND;TZID=America/Los_Angeles:20250205T030001
LOCATION:
SUMMARY:Winter 2025 CASA Applications Due
END:VEVENT
END:VCALENDAR
